BEGIN:VCALENDAR
VERSION:2.0
PRODID:-//wp-events-plugin.com//7.2.3.1//EN
BEGIN:VEVENT
UID:30@increasinghope.org
DTSTART:20250716T110000Z
DTEND:20250716T120000Z
DTSTAMP:20250703T180002Z
URL:https://increasinghope.org/events/why-access-to-money-is-always-one-st
 ep-ahead/
SUMMARY:Why Access to Money Is Always One Step Ahead (Virtual)
DESCRIPTION:\n\n\nWhy does it always feel like access to money is just out 
 of reach\, especially when you need it most? (Free Virtual Webinar)\n\nWhe
 ther you're building a business\, managing personal finances\, or investin
 g for the future\, the rules seem to shift just when you think you've figu
 red them out.\n\nWhy do some people seem to have insider access while othe
 rs are left navigating gatekeepers?\n\nAnd how do systems of credit\, lend
 ing\, and wealth creation really work beneath the surface?\n\nJoin us for 
 a candid conversation that unpacks why access to money often feels like a 
 moving target\, and what you can do to close the gap.\n\n\nSpeaker(s):  N
 ico Brown - CLIMBFund - Lending for Opportunity Stephanie Fox - Truist Bri
 ttany Jefferson and Paul Binion - Increasing H.O.P.E - Credit Counseling A
 lex Veloz - I-H.O.P.E - Women's Business Center\nClick Here to Register- 
  You will receive a link to join the training after you register.\n&nbsp\
 ;
CATEGORIES:Event,Financial Education,Small Business
END:VEVENT
END:VCALENDAR