BEGIN:VCALENDAR
VERSION:2.0
PRODID:-//wp-events-plugin.com//7.2.3.1//EN
BEGIN:VEVENT
UID:31@increasinghope.org
DTSTART:20250821T120000Z
DTEND:20250821T130000Z
DTSTAMP:20250717T205945Z
URL:https://increasinghope.org/events/lunch-learn-funding-your-small-busin
 ess/
SUMMARY:Lunch & Learn: Funding Your Small Business
DESCRIPTION:Lunch &amp\; Learn: Small Business Financing in SCThursday\, Au
 gust 21\, 2025 | 12:00 PM – 1:00 PMOnline | Hosted by I-HOPE Women's Bus
 iness CenterTopic: Financing for Small Businesses\nDiscover financing opti
 ons for launching or growing your small business in South Carolina. This v
 irtual session covers SBA loans\, local and state funding\, angel investor
 s\, crowdfunding\, banking solutions\, and more. Get expert insights and a
 sk your funding questions live.\nRegister now with I-HOPE WBC to secure yo
 ur spot
CATEGORIES:Financial Education,Small Business
END:VEVENT
END:VCALENDAR