BEGIN:VCALENDAR
VERSION:2.0
PRODID:-//wp-events-plugin.com//7.2.3.1//EN
BEGIN:VEVENT
UID:34@increasinghope.org
DTSTART;TZID=America/New_York:20251104T113000
DTEND;TZID=America/New_York:20251104T130000
DTSTAMP:20251009T212653Z
URL:https://increasinghope.org/events/invite-to-our-open-house-2/
SUMMARY:Invite to Our Open House
DESCRIPTION:You’re Invited to Something Different\nSomething special is h
 appening at Increasing H.O.P.E that is making us open our doors to everyon
 e.\nIt’s more than an open house. It’s a chance to see what happens wh
 en people gather with purpose\, curiosity\, and a bit of wonder.\nWe won
 ’t give everything away\, but expect connection\, inspiration\, and mayb
 e a surprise or two.\nCome as you are. Leave with something unexpected.
CATEGORIES:Event
LOCATION:The Opportunity Center\, 8570 Rivers Avenue Suite 120\, North Char
 leston\, South Carolina\, 29406\, United States
X-APPLE-STRUCTURED-LOCATION;VALUE=URI;X-ADDRESS=8570 Rivers Avenue Suite 12
 0\, North Charleston\, South Carolina\, 29406\, United States;X-APPLE-RADI
 US=100;X-TITLE=The Opportunity Center:geo:0,0
END:VEVENT
BEGIN:VTIMEZONE
TZID:America/New_York
X-LIC-LOCATION:America/New_York
BEGIN:STANDARD
DTSTART:20251102T010000
TZOFFSETFROM:-0400
TZOFFSETTO:-0500
TZNAME:EST
END:STANDARD
END:VTIMEZONE
END:VCALENDAR