BEGIN:VCALENDAR
VERSION:2.0
PRODID:-//wp-events-plugin.com//7.2.3.1//EN
BEGIN:VEVENT
UID:39@increasinghope.org
DTSTART;TZID=America/New_York:20260108T180000
DTEND;TZID=America/New_York:20260108T200000
DTSTAMP:20260106T205736Z
URL:https://increasinghope.org/events/increasing-h-o-p-e-orientation/
SUMMARY:Increasing H.O.P.E Orientation
DESCRIPTION:Register here for this class.
CATEGORIES:Event
LOCATION:The Opportunity Center\, 8570 Rivers Avenue Suite 120\, North Char
 leston\, South Carolina\, 29406\, United States
X-APPLE-STRUCTURED-LOCATION;VALUE=URI;X-ADDRESS=8570 Rivers Avenue Suite 12
 0\, North Charleston\, South Carolina\, 29406\, United States;X-APPLE-RADI
 US=100;X-TITLE=The Opportunity Center:geo:0,0
END:VEVENT
BEGIN:VTIMEZONE
TZID:America/New_York
X-LIC-LOCATION:America/New_York
BEGIN:STANDARD
DTSTART:20251102T010000
TZOFFSETFROM:-0400
TZOFFSETTO:-0500
TZNAME:EST
END:STANDARD
END:VTIMEZONE
END:VCALENDAR