BEGIN:VCALENDAR
VERSION:2.0
PRODID:-//wp-events-plugin.com//7.2.3.1//EN
BEGIN:VEVENT
UID:45@increasinghope.org
DTSTART;TZID=America/New_York:20250626T180000
DTEND;TZID=America/New_York:20250626T193000
DTSTAMP:20260211T220902Z
URL:https://increasinghope.org/events/homebuyers-101-4/
SUMMARY:Homebuyers 101
DESCRIPTION:\nFree Homebuyer Workshop\nPurchasing a home may be one of the 
 biggest financial decisions you will ever make\, and navigating today’s 
 housing market can seem impossible. Homeownership education is the single 
 most effective tool for achieving successful homeownership. Increasing H.O
 .P.E offers several programs to assist you in preparing for the home buyin
 g process.\nDate: March 19th\, 2026Time: 6:30 PM- 8:00 PMLocation: The Opp
 ortunity Center8570 Rivers Ave Ste 120North Charleston\, SC 29406
CATEGORIES:Event,Housing
LOCATION:https://increasinghope.charityproud.org/EventRegistration/Index/21
 180
END:VEVENT
BEGIN:VTIMEZONE
TZID:America/New_York
X-LIC-LOCATION:America/New_York
BEGIN:DAYLIGHT
DTSTART:20250309T030000
TZOFFSETFROM:-0500
TZOFFSETTO:-0400
TZNAME:EDT
END:DAYLIGHT
END:VTIMEZONE
END:VCALENDAR