BEGIN:VCALENDAR
VERSION:2.0
PRODID:-//wp-events-plugin.com//7.2.3.1//EN
BEGIN:VEVENT
UID:18@increasinghope.org
DTSTART;TZID=America/New_York:20250918T180000
DTEND;TZID=America/New_York:20250918T193000
DTSTAMP:20250310T203257Z
URL:https://increasinghope.org/events/homebuyers-101-2/
SUMMARY:Homebuyers 101
DESCRIPTION:\nFree Homebuyer Workshop\nAre you looking to buy a home? Join 
 us for a Free Homebuyer Workshop where you'll gain valuable insights into 
 the homebuying process. This session is perfect for first-time buyers or a
 nyone looking to refresh their knowledge.\nDate: September 18th\, 2025Time
 : 6 PM- 7:30 PMLocation: The Opportunity Center8570 Rivers Ave Ste 120Nort
 h Charleston\, SC 29406
CATEGORIES:Event,Housing
LOCATION:https://increasinghope.charityproud.org/EventRegistration/Index/21
 240
END:VEVENT
BEGIN:VTIMEZONE
TZID:America/New_York
X-LIC-LOCATION:America/New_York
BEGIN:DAYLIGHT
DTSTART:20250309T030000
TZOFFSETFROM:-0500
TZOFFSETTO:-0400
TZNAME:EDT
END:DAYLIGHT
END:VTIMEZONE
END:VCALENDAR