BEGIN:VCALENDAR
VERSION:2.0
PRODID:-//wp-events-plugin.com//7.2.3.1//EN
BEGIN:VEVENT
UID:48@increasinghope.org
DTSTART;TZID=America/New_York:20260425T100000
DTEND;TZID=America/New_York:20260425T140000
DTSTAMP:20260330T152101Z
URL:https://increasinghope.org/events/day-of-hope/
SUMMARY:Day of HOPE 2026
DESCRIPTION:\n\n\nJoin us for the Day of HOPE\, a free community event desi
 gned to connect individuals and families with tools\, information\, and op
 portunities for economic mobility.\n\n\n\n 	Financial mini classes\n 	 Sm
 all business information\n 	 Networking opportunities\n 	 Expert speaker
 s &amp\; panelists\n 	 Resources for credit\, savings\, and homeownership
 \n\n&nbsp\;\n\n\n\nEvent Info:\n\n 	Saturday\, April 25\n 	10:00 AM – 2:
 00 PM\n 	8570 Rivers Ave\, North Charleston\, SC\n 	FREE to attend but you
  are asked to register\n\n\n\n\nThis is a space to get informed\, get conn
 ected\, and take your next step forward.\n\n\n\n 	Register now: www.2Decad
 esOfHOPE.com\n\n\n\n\nSponsored by Wells Fargo &amp\; United Bank\n\n\n\n
      Vendors: Click Here\n     Sponsors: Click Here\n\nFor more info
 rmation\, contact Dorothea at 843-225-4343 dbernique@increasinghope.org\n&
 nbsp\;
CATEGORIES:Event
LOCATION:https://increasinghope.charityproud.org/EventRegistration/Index/26
 993
END:VEVENT
BEGIN:VTIMEZONE
TZID:America/New_York
X-LIC-LOCATION:America/New_York
BEGIN:DAYLIGHT
DTSTART:20260308T030000
TZOFFSETFROM:-0500
TZOFFSETTO:-0400
TZNAME:EDT
END:DAYLIGHT
END:VTIMEZONE
END:VCALENDAR