BEGIN:VCALENDAR
VERSION:2.0
PRODID:-//wp-events-plugin.com//7.2.3.1//EN
BEGIN:VEVENT
UID:7@increasinghope.org
DTSTART;TZID=America/New_York:20250417T180000
DTEND;TZID=America/New_York:20250417T193000
DTSTAMP:20250310T183230Z
URL:https://increasinghope.org/events/budget-101/
SUMMARY:Budget 101
DESCRIPTION:\n\nBudgeting Workshop by Increasing H.O.P.E.\n\nTake control o
 f your finances with this essential workshop! Hosted by Increasing H.O.P.E
 .\, this session will guide you through creating and maintaining a budget\
 , helping you manage personal and household finances effectively.\n\nDate:
  April 17th\, 2025\nTime: 6 PM- 7:30 PM\n\nLocation: The Opportunity Cente
 r\n8570 Rivers Ave Ste 120\nNorth Charleston\, SC 29406\n\nCost: $15.66 pe
 r person\n\nWhat you’ll learn:\n\n 	Building a Budget: Step-by-step inst
 ructions on how to create a budget that works for you.\n 	Financial Manage
 ment: Practical tools and insights to help you manage your money effective
 ly.\n 	Maintaining a Budget: Tips and strategies for staying on track with
  your finances long-term.\n\nRSVP Today! Don’t miss this opportunity to 
 take charge of your financial future.
CATEGORIES:Event,Financial Education
LOCATION:https://increasinghope.charityproud.org/EventRegistration/Index/21
 170
END:VEVENT
BEGIN:VTIMEZONE
TZID:America/New_York
X-LIC-LOCATION:America/New_York
BEGIN:DAYLIGHT
DTSTART:20250309T030000
TZOFFSETFROM:-0500
TZOFFSETTO:-0400
TZNAME:EDT
END:DAYLIGHT
END:VTIMEZONE
END:VCALENDAR